BEGIN:VCALENDAR
VERSION:2.0
PRODID:-//wp-events-plugin.com//5.99912//EN
TZID:Europe/Berlin
X-WR-TIMEZONE:Europe/Berlin
BEGIN:VEVENT
UID:0-355@essingen.albverein.eu
DTSTART;TZID=Europe/Berlin:20260427T173000
DTEND;TZID=Europe/Berlin:20260427T173000
DTSTAMP:20260109T194032Z
URL:https://essingen.albverein.eu/events/koepfles-grillen-april-2026/
SUMMARY:Köpfles-Grillen April 2026
DESCRIPTION:\nKöpfles-Grillen jeden letzten Montag im Sommerhalbjahr\nVon 
 April bis September\nDas Köpfles-Grillen findet am letzten Montag eines M
 onats von April bis September statt. Beginn ist ab etwa 17:30 Uhr. Hier be
 steht die Möglichkeit\, nicht nur für Vereinsmitglieder\, sich zwanglos 
 zu treffen\, gemeinsam zu essen und zu spielen. Es sind alle Interessierte
  herzlich willkommen. Eine Anmeldung ist nicht erforderlich.\n\nMan bringt
  für sich das mit\, was man essen und trinken möchte. Auch Geschirr und 
 Besteck falls erwünscht. Grundsätzlich gilt\, jede(r) sorgt für sich se
 lbst. Das Feuer wird in aller Regel ein halbe Stunde vorher entzündet\, s
 o dass dann genügend Glut vorhanden ist.\n\nAb dem Wanderparkplatz Köpfl
 e\, an der Steige\, sind es etwa 10-15 Gehminuten bis auf´s Köpfle.\n\nS
 chauen Sie doch mal vorbei\, wir freuen uns.\nDie Ortsgruppe Essingen des 
 SAV\n\n
ATTACH;FMTTYPE=image/jpeg:https://essingen.albverein.eu/wp-content/uploads
 /sites/439/2019/05/koepfles-grillen.jpg
LOCATION:Steige / Köpfle\, Steige 20\, Essingen\, Baden-Württemberg\, 734
 57\, 0stalb\, Deutschland
GEO:48.80316;10.028459999999995
X-APPLE-STRUCTURED-LOCATION;VALUE=URI;X-ADDRESS=Steige 20\, Essingen\, Bade
 n-Württemberg\, 73457\, 0stalb\, Deutschland;X-APPLE-RADIUS=100;X-TITLE=S
 teige / Köpfle:geo:48.80316,10.028459999999995
END:VEVENT
BEGIN:VTIMEZONE
TZID:Europe/Berlin
X-LIC-LOCATION:Europe/Berlin
BEGIN:DAYLIGHT
DTSTART:20260329T030000
TZOFFSETFROM:+0100
TZOFFSETTO:+0200
TZNAME:CEST
END:DAYLIGHT
END:VTIMEZONE
END:VCALENDAR